BEGIN:VCALENDAR
VERSION:2.0
PRODID:-//Earthie Yoga and Meditation - ECPv4.8.1//NONSGML v1.0//EN
CALSCALE:GREGORIAN
METHOD:PUBLISH
X-WR-CALNAME:Earthie Yoga and Meditation
X-ORIGINAL-URL:http://earthie.com.au
X-WR-CALDESC:Events for Earthie Yoga and Meditation
BEGIN:VEVENT
DTSTART;TZID=UTC+0:20190204T060000
DTEND;TZID=UTC+0:20190204T073000
DTSTAMP:20200227T150630
CREATED:20190106T082855Z
LAST-MODIFIED:20190106T082929Z
UID:381-1549260000-1549265400@earthie.com.au
SUMMARY:4 Week Kundalini Yoga All Levels Morning Class
DESCRIPTION:MONDAY 6AM – 7.30AM\n4 FEBRUARY – 25 FEBRUARY\, 2019\nEarthie Yoga and Meditation\, MAYFIELD \nThis course is suitable for beginners and for people with all levels of experience and fitness. \nIn this weekly course we will explore all aspects of Kundalini Yoga & Meditation – a powerful\, comprehensive technology for health and wellness.\nBookings essential. Course Fee $70. \nKundalini Yoga is the yoga of awareness\, which aims to uplift and harmonise your mind\, body and soul\, build physical vitality\, a strong nervous system and expanded consciousness. It is suitable for everyBODY\, all ages and levels of experience.\nIt is Yoga in its purest form. \nKundalini Yoga is an ancient form of yoga which combines an uplifting blend of spiritual and physical practices\, incorporating movement\, dynamic breathing techniques\, meditation\, and the chanting of mantras. \nThis Monday morning class is and open to all levels of experience including those who have not done Yoga before. \nKundalini Yoga can help you let go of fear and anxiety\, relieve depression and release unconscious blocks so that you can reach your full potential and live a happy and healthy life. It improves enjoyment of life by developing a calmness to deal gracefully with life’s challenges and stresses\, and helps in finding balance in busy lives. \nSome Benefits of Kundalini Yoga \n* Cultivates optimal health on all levels: physical\, mental\, spiritual and emotional. \n* Allows you to approach each day with a strong sense of self/individual truth resulting in new opportunities and an expanded reality. \n* Mental clarity that breaks through old mental patterns and inspires new ideas. \n* Cultivates a sense of wellbeing\, inner stillness and peace. \nBook and pay through the ticket link below.\nPlease call Lucinda if you have any questions \nLooking forward to seeing you soon. xx Lucinda\n0414 309 467 \n
URL:http://earthie.com.au/event/4-week-kundalini-yoga-all-levels-morning-class/
LOCATION:Earthie Yoga and Meditation\, 1/5 Maitland Rd\, Mayfield\, Newcastle\, NSW\, 2304\, Australia
ATTACH;FMTTYPE=image/jpeg:http://earthie.com.au/wp-content/uploads/2019/01/48426004_1811869225606728_4910033185749860352_n.jpg
END:VEVENT
END:VCALENDAR