BEGIN:VCALENDAR
VERSION:2.0
PRODID:-//Earthie Yoga and Meditation - ECPv4.8.1//NONSGML v1.0//EN
CALSCALE:GREGORIAN
METHOD:PUBLISH
X-WR-CALNAME:Earthie Yoga and Meditation
X-ORIGINAL-URL:http://earthie.com.au
X-WR-CALDESC:Events for Earthie Yoga and Meditation
BEGIN:VEVENT
DTSTART;TZID=UTC+0:20190907T150000
DTEND;TZID=UTC+0:20190907T163000
DTSTAMP:20200228T235821
CREATED:20190812T002704Z
LAST-MODIFIED:20190819T064146Z
UID:587-1567868400-1567873800@earthie.com.au
SUMMARY:Eyegazing Experience
DESCRIPTION:Join the Newcastle Eye Gazing experience at Earthie where we will observe\, and reflect on the process of this sacred practice. These events are safe spaces that welcome everybody. Enrich your life by building meaningful connections\, where you will see and be seen. \nThese events are run by donation. We look forward to seeing you there! \n
URL:http://earthie.com.au/event/587/
LOCATION:Earthie Yoga and Meditation\, 1/5 Maitland Rd\, Mayfield\, Newcastle\, NSW\, 2304\, Australia
ATTACH;FMTTYPE=image/jpeg:http://earthie.com.au/wp-content/uploads/2019/08/eye-gazing-poster.jpg
END:VEVENT
END:VCALENDAR