BEGIN:VCALENDAR
VERSION:2.0
PRODID:-//Earthie Yoga and Meditation - ECPv4.8.1//NONSGML v1.0//EN
CALSCALE:GREGORIAN
METHOD:PUBLISH
X-WR-CALNAME:Earthie Yoga and Meditation
X-ORIGINAL-URL:http://earthie.com.au
X-WR-CALDESC:Events for Earthie Yoga and Meditation
BEGIN:VEVENT
DTSTART;TZID=UTC+0:20190719T190000
DTEND;TZID=UTC+0:20190719T203000
DTSTAMP:20200226T051432
CREATED:20190606T104845Z
LAST-MODIFIED:20190606T104845Z
UID:551-1563562800-1563568200@earthie.com.au
SUMMARY:An evening of Mantra & Music
DESCRIPTION:Enchanting and captivating\, restorative and evocative\, music can soothe us\, revitalise us and deliver us to our place of peace. When combined with the ancient practice of chanting mantra\, the result can be transformative. \nBringing together the soothing sounds of guitar and harmonium\, Cass & Angelique create a tranquil sound scape of restful and restorative melody inviting you to connect to the sacred space within. \nAn evening of Mantra & Music entices you to experience sound and vibration on a deeper level to support the quietening of the mind and the opening of the heart. \n“I think music in itself is healing. It’s an explosive expression of humanity. It’s something we are all touched by. No matter what culture we’re from\, everyone loves music.” ― Billy Joel \nTickets are $10 – and available for purchase at the door. \n
URL:http://earthie.com.au/event/an-evening-of-mantra-music/
LOCATION:Earthie Yoga and Meditation\, 1/5 Maitland Rd\, Mayfield\, Newcastle\, NSW\, 2304\, Australia
ATTACH;FMTTYPE=image/jpeg:http://earthie.com.au/wp-content/uploads/2019/06/57936141_2140544592696159_5277347189859811328_n.jpg
END:VEVENT
END:VCALENDAR