BEGIN:VCALENDAR
VERSION:2.0
PRODID:-//Earthie Yoga and Meditation - ECPv4.8.1//NONSGML v1.0//EN
CALSCALE:GREGORIAN
METHOD:PUBLISH
X-WR-CALNAME:Earthie Yoga and Meditation
X-ORIGINAL-URL:http://earthie.com.au
X-WR-CALDESC:Events for Earthie Yoga and Meditation
BEGIN:VEVENT
DTSTART;TZID=UTC+0:20200228T193000
DTEND;TZID=UTC+0:20200228T210000
DTSTAMP:20200222T234721
CREATED:20200206T092102Z
LAST-MODIFIED:20200213T032214Z
UID:779-1582918200-1582923600@earthie.com.au
SUMMARY:Anousha Victoire Film Clip Launch at Lounge Sessions
DESCRIPTION:Local acclaimed singer songwriter Anousha Victoire will bring us the songs from her recently released album\, and launch her film clip. \nIn this intimate performance\, she will bring us the original songs from her 2020 release\, Precious Things\, and launch her film clip for the recently released first single from the album\, entitled Precious Things to Me. \nPerforming in duo mode with Skye Harrison on divine strings and dreamy harmonies\, who will also perform some of her original songs under her solo moniker As of Sky. \nwww.anoushavictoiremusic.com\n\nFacebook Event  \n
URL:http://earthie.com.au/event/anousha-victoire-film-clip-launch-at-lounge-sessions/
LOCATION:Earthie Yoga and Meditation\, 1/5 Maitland Rd\, Mayfield\, Newcastle\, NSW\, 2304\, Australia
ATTACH;FMTTYPE=image/jpeg:http://earthie.com.au/wp-content/uploads/2020/02/85250006_2515246765415972_3672642838505455616_n.jpg
END:VEVENT
END:VCALENDAR