BEGIN:VCALENDAR
VERSION:2.0
PRODID:-//Earthie Yoga and Meditation - ECPv4.8.1//NONSGML v1.0//EN
CALSCALE:GREGORIAN
METHOD:PUBLISH
X-WR-CALNAME:Earthie Yoga and Meditation
X-ORIGINAL-URL:http://earthie.com.au
X-WR-CALDESC:Events for Earthie Yoga and Meditation
BEGIN:VEVENT
DTSTART;TZID=UTC+0:20200303T180000
DTEND;TZID=UTC+0:20200331T193000
DTSTAMP:20200228T225342
CREATED:20200224T224328Z
LAST-MODIFIED:20200224T224328Z
UID:806-1583258400-1585683000@earthie.com.au
SUMMARY:Beginners Kundalini Yoga Course
DESCRIPTION:Is this you? \n\n\n Do you feel stuck in your career\, relationships or personal growth?\n\n\nDo you lack inner vitality and energy?  \n\n\nDo you know that you are destined for more\, but unsure how to get there?\n\n\nDo you ever feel overwhelmed\, stressed or anxious?\n\n\nDo you suffer from tension and pain in your body?\n\n\nDo you find it difficult to relax and let go?\n\n\nDo you lack direction if your life or feel uncertain about your decisions?\n\n\n  \nWhen your life force energy is activated\, and your awakening process begins\, you shed many layers that are keeping you stuck in your life. Your deepest fears are transformed which creates open space for your truth to shine. This renewed energy ripples out into all areas of your life including your relationships\, career and life allowing you to witness a powerful flow of abundance.\nActivate your life force energy and unlock your fullest potential with Kundalini Yoga Newcastle\nJoin Lucinda for the next 5- week beginners course on Tuesday evenings. \n
URL:http://earthie.com.au/event/beginners-kundalini-yoga-course/
LOCATION:Earthie Yoga and Meditation\, 1/5 Maitland Rd\, Mayfield\, Newcastle\, NSW\, 2304\, Australia
ATTACH;FMTTYPE=image/jpeg:http://earthie.com.au/wp-content/uploads/2020/02/84601491_2539698752823768_6243729232485154816_o.jpg
END:VEVENT
END:VCALENDAR