BEGIN:VCALENDAR
VERSION:2.0
PRODID:-//Earthie Yoga and Meditation - ECPv4.8.1//NONSGML v1.0//EN
CALSCALE:GREGORIAN
METHOD:PUBLISH
X-WR-CALNAME:Earthie Yoga and Meditation
X-ORIGINAL-URL:http://earthie.com.au
X-WR-CALDESC:Events for Earthie Yoga and Meditation
BEGIN:VEVENT
DTSTART;TZID=UTC+0:20190829T180000
DTEND;TZID=UTC+0:20190926T193000
DTSTAMP:20200229T000836
CREATED:20190812T043413Z
LAST-MODIFIED:20190812T043544Z
UID:593-1567101600-1569526200@earthie.com.au
SUMMARY:Chakra Power - Healing the Medicine Wheels with Kundalini Yoga
DESCRIPTION:At the inner core of each one of us spin seven wheel-like energy\ncenters called chakras. \nThe seven chakras form a profound formula of medicine\nthat integrates mind\, body\, and spirit. \nThe first 3 chakras 1\, 2 & 3 are known as the lower triangle and are connected to the physical needs of the body and of life. \nChakras 5\, 6 & 7 are known as the upper triangle and work with our spiritual and universal consciousness. The fourth chakra (heart) is the balance between the two triangles\, where the shift happens from ME to WE (Individual to Universal). All the chakras are interconnected and work in unison. \nEach chakra has an important medicine and is correlated with different aspects of our lives\, affecting our perceptions\, feelings and choices. \nThrough Kundalini exercises and meditation we can explore the mysteries of the chakras\, bringing to light ways in which we are blocked\, and learning techniques to release our inner energy and full potential. \nThe physical exercises\, meditations\, and sound and mantra healing will help you to: \n• Ground and center your energy.\n• Release and Clear any blocks\n• Increase personal power and energy.\n• Open your heart to love and compassion.\n• Use sounds to open consciousness.\n• Develop your intuition.\n• Expand your awareness. \nYou will be given powerful meditations and ritual to be practiced at home that will support your journey. \nOpen to all. No previous experience necessary. \nWhen: Thursdays 6pm – 7.30pm\nDates: 29 August – 26 September\, 2019 \nInvestment: $70. Please book via booking link in event or contact Lucinda for further information. \n“The criteria is that if you can practice and understand these chakras\, and develop them automatically in your body so they become your companions\, then you have seven friends” – Yogi Bhajan \n
URL:http://earthie.com.au/event/chakra-power-healing-the-medicine-wheels-with-kundalini-yoga/
LOCATION:Earthie Yoga and Meditation\, 1/5 Maitland Rd\, Mayfield\, Newcastle\, NSW\, 2304\, Australia
ATTACH;FMTTYPE=image/jpeg:http://earthie.com.au/wp-content/uploads/2019/08/fgh.jpg
END:VEVENT
END:VCALENDAR