BEGIN:VCALENDAR
VERSION:2.0
PRODID:-//Earthie Yoga and Meditation - ECPv4.8.1//NONSGML v1.0//EN
CALSCALE:GREGORIAN
METHOD:PUBLISH
X-WR-CALNAME:Earthie Yoga and Meditation
X-ORIGINAL-URL:http://earthie.com.au
X-WR-CALDESC:Events for Earthie Yoga and Meditation
BEGIN:VEVENT
DTSTART;TZID=UTC+0:20200221T180000
DTEND;TZID=UTC+0:20200221T200000
DTSTAMP:20200228T230441
CREATED:20200217T063210Z
LAST-MODIFIED:20200217T063210Z
UID:797-1582308000-1582315200@earthie.com.au
SUMMARY:Essential Connections - Lunar Expression
DESCRIPTION:~ Deepening connection\, trust and joy through partner yoga play & essential oils ~ \nThe Essential Connection workshop is a journey through the heart into the soul of being present with one another – join with your beloved or your best mate\, it doesn’t matter who you are connecting with\, so long as you arrive with an open mind & a willing heart. \nAll human interactions begin with the relationship we have with ourselves first\, from this solid platform we can begin to build upon our relating with others. \nWhere: Earthie Yoga – Maitland Road Mayfield \nWhen: Fri 21st Feb 6pm to 8pm \nExchange: early bird $50 per/couple\, and $60 cash at the door \nReserve your place here: https://www.eventbrite.com.au/e/essential-connections-lunar-expression-tickets-94062400171 \nYour exchange also includes a take home sample of these high vibe essential oils so you can anchor back in to the energy of your connection + delicious vegan refreshments for after class. \nThis 2hr workshop is led by Matt Worley & Claudia Scalisi. These two enigmatic yoga teachers developed this workshop whilst they were supporting their long distance (Newcastle to Perth) relationship through mindfulness\, play and deep connection & they are opening up their secrets of how to grow while living apart from your beloved with you! \nDuring this workshop they’ll be sharing with you some of the ways in which they continue to support their connection & keep their relationship alive & spicy! Living with yogic principles of surrender\, trust and mindful body movement\, these two yogis introduced another sense into their interaction; the powerful sense of smell and aromatic anchoring. \nBring your favourite human and enjoy being guided through breath meditations\, partner yoga\, therapeutic flying + some acro-yoga play along with heart opening aromas of specially chosen essential oils to help infuse your connection with a new point of return. \nPrepare to elevate your relationship to whole new level… \nAs you learn how to hold space for one another\, you’ll begin to uncover your own techniques to help you learn how to read your partners energy with your eyes\, your touch and with your heart. \nBe present. It’s powerful \n>>> Reserve your place online & save! <<< \n
URL:http://earthie.com.au/event/essential-connections-lunar-expression/
LOCATION:Earthie Yoga and Meditation\, 1/5 Maitland Rd\, Mayfield\, Newcastle\, NSW\, 2304\, Australia
ATTACH;FMTTYPE=image/jpeg:http://earthie.com.au/wp-content/uploads/2020/02/86287096_10157226694462547_3858665512842035200_n.jpg
END:VEVENT
END:VCALENDAR