BEGIN:VCALENDAR
VERSION:2.0
PRODID:-//Earthie Yoga and Meditation - ECPv4.8.1//NONSGML v1.0//EN
CALSCALE:GREGORIAN
METHOD:PUBLISH
X-WR-CALNAME:Earthie Yoga and Meditation
X-ORIGINAL-URL:http://earthie.com.au
X-WR-CALDESC:Events for Earthie Yoga and Meditation
BEGIN:VEVENT
DTSTART;TZID=UTC+0:20191116T133000
DTEND;TZID=UTC+0:20191116T144500
DTSTAMP:20200228T230311
CREATED:20191104T092643Z
LAST-MODIFIED:20191104T092643Z
UID:682-1573911000-1573915500@earthie.com.au
SUMMARY:How to Make Kokedama Succulent Balls as Gifts 
DESCRIPTION:We will help you create a mini work of art with this ancient Japanese technique where a plant is bound by moss and string. This style is perfect for succulents and is a great way to bring the outdoors inside. \nInvestment is $40 with everything included to make a large Kokedama plant. Pay cash at the door. \n  \n
URL:http://earthie.com.au/event/how-to-make-kokedama-succulent-balls-as-gifts/
LOCATION:Earthie Yoga and Meditation\, 1/5 Maitland Rd\, Mayfield\, Newcastle\, NSW\, 2304\, Australia
ATTACH;FMTTYPE=image/jpeg:http://earthie.com.au/wp-content/uploads/2019/11/74624107_2459851071007866_3083358494972182528_n.jpg
END:VEVENT
END:VCALENDAR