BEGIN:VCALENDAR
VERSION:2.0
PRODID:-//Earthie Yoga and Meditation - ECPv4.8.1//NONSGML v1.0//EN
CALSCALE:GREGORIAN
METHOD:PUBLISH
X-WR-CALNAME:Earthie Yoga and Meditation
X-ORIGINAL-URL:http://earthie.com.au
X-WR-CALDESC:Events for Earthie Yoga and Meditation
BEGIN:VEVENT
DTSTART;TZID=UTC+0:20190112T103000
DTEND;TZID=UTC+0:20190112T120000
DTSTAMP:20200224T031427
CREATED:20190106T074803Z
LAST-MODIFIED:20190106T081511Z
UID:363-1547289000-1547294400@earthie.com.au
SUMMARY:Introduction to Yoga with Dan Fanthorpe
DESCRIPTION:Introduction to Yoga with Dan Fanthorpe. Sat 12 Jan \nPerfect for beginners. \nDan first learned yoga in 1987\, taught by his mother who was a Hatha yoga teacher. This is long ago\, before yoga was big business\, when it was only found in community halls. For over 30 years Dan has cultivated direct experience with the teachings of the masters through extensive studies of Ashtanga Yoga. \nCome and learn the fundamental techniques and ideas of classical Yoga with Dan. He will cover alignment\, muscular activation\, breathing\, mindfulness\, and more. \nSaturday 12th Jan\, 10:30am to 12pm\nEarthie Yoga\, 1/5 Maitland Rd\, Mayfield (next to @equium_social) \nTickets are just $25 and bookings are essential. Contact Josh via josh@earthie.com.au or 0434 246 874 \n
URL:http://earthie.com.au/event/introduction-to-yoga-with-dan-fanthorpe/
LOCATION:Earthie Yoga and Meditation\, 1/5 Maitland Rd\, Mayfield\, Newcastle\, NSW\, 2304\, Australia
ATTACH;FMTTYPE=image/jpeg:http://earthie.com.au/wp-content/uploads/2019/01/49205035_1195679330587483_1794182915291086848_n.jpg
ORGANIZER;CN="":MAILTO:josh@earthie.com.au
END:VEVENT
END:VCALENDAR