BEGIN:VCALENDAR
VERSION:2.0
PRODID:-//Earthie Yoga and Meditation - ECPv4.8.1//NONSGML v1.0//EN
CALSCALE:GREGORIAN
METHOD:PUBLISH
X-WR-CALNAME:Earthie Yoga and Meditation
X-ORIGINAL-URL:http://earthie.com.au
X-WR-CALDESC:Events for Earthie Yoga and Meditation
BEGIN:VEVENT
DTSTART;TZID=UTC+0:20200128T180000
DTEND;TZID=UTC+0:20200225T193000
DTSTAMP:20200227T074811
CREATED:20200115T104001Z
LAST-MODIFIED:20200121T102208Z
UID:733-1580234400-1582659000@earthie.com.au
SUMMARY:Kundalini Yoga 5 week course: Beginners
DESCRIPTION:\nThe perfect course to get you started on your Kundalini Yoga and meditation journey. Understand and practice yoga safely. Learn about alignment\, yoga postures\, pranayama (breathing techniques)\, meditation practices\, focussing your mind\, mantras and chakras (energy centres in your body). You’ll learn techniques which lead to deep relaxation and healing of mind and body.By using the powerful technology of Kundalini Yoga and meditations\, we will cleanse our bodies and our consciousness\, shedding the layer of who we are not so that we may come back to who we truly are. \nThis 5 week series we will learn detoxing yoga postures and breathing exercises that stimulate digestive\, lymphatic and circulatory systems as well as learn how to integrate healthy tools into daily life and practice. Plan to release toxins and restore the body back to equilibrium. \nWe will work on mental toxins through the practice of meditation and the use of mantra\, giving us the opportunity to explore the connections between emotional and physical symptoms. \nThe practice is available to everyone\, no matter what your current level of physical fitness. As some say\, if you can breathe\, you can practice Kundalini Yoga! You do not need to be fit\, bendy\, young\, strong or instagram-ready to do yoga. Kundalini Yoga is a personal practice\, and your experience will always be unique. \n\n\n\nTuesday 6pm – 7.30pm\n28 Jan – 25 Feb\, 2020\nEarthie Yoga\, 1/5 Maitland Road\, MAYFIELD\nInvestment: $80 https://www.trybooking.com/BHQVY\n\n\n
URL:http://earthie.com.au/event/kundalini-yoga-5-week-beginners-course/
LOCATION:Earthie Yoga and Meditation\, 1/5 Maitland Rd\, Mayfield\, Newcastle\, NSW\, 2304\, Australia
ATTACH;FMTTYPE=image/jpeg:http://earthie.com.au/wp-content/uploads/2020/01/82187581_2474790195981291_8816728763812282368_n.jpg
END:VEVENT
END:VCALENDAR