BEGIN:VCALENDAR
VERSION:2.0
PRODID:-//Earthie Yoga and Meditation - ECPv4.8.1//NONSGML v1.0//EN
CALSCALE:GREGORIAN
METHOD:PUBLISH
X-WR-CALNAME:Earthie Yoga and Meditation
X-ORIGINAL-URL:http://earthie.com.au
X-WR-CALDESC:Events for Earthie Yoga and Meditation
BEGIN:VEVENT
DTSTART;TZID=UTC+0:20190322T193000
DTEND;TZID=UTC+0:20190322T210000
DTSTAMP:20200222T151716
CREATED:20190221T041834Z
LAST-MODIFIED:20190221T213632Z
UID:406-1553283000-1553288400@earthie.com.au
SUMMARY:Open Jam & Lounge Sessions @ Earthie
DESCRIPTION:Classical music in a relaxed atmosphere.\nCome along and here some of Newcastle’s classical musicians playing music you may never have heard before but in a relaxed\, house concert style environment.\nYou won’t often get to here the cello and double bass playing Rossini together so make sure you don’t miss this opportunity! \nWheelchair access is available via the cafe next door on request. Just come to the main door on Maitland Rd on arrival and let us know you need wheelchair access. \nLounge Sessions will be held on the 4th Friday of the month – $10 at the door\nWe will also be holding Open Jams by donation on the 2nd Friday of every month- musicians\, feel free to come along\, bring your instrument for some lighthearted jamming with others! \n
URL:http://earthie.com.au/event/lounge-session-earthie/
LOCATION:Earthie Yoga and Meditation\, 1/5 Maitland Rd\, Mayfield\, Newcastle\, NSW\, 2304\, Australia
ATTACH;FMTTYPE=image/jpeg:http://earthie.com.au/wp-content/uploads/2019/02/earthie-naomi-lounge-e1550784970150.jpg
END:VEVENT
END:VCALENDAR