BEGIN:VCALENDAR
VERSION:2.0
PRODID:-//Earthie Yoga and Meditation - ECPv4.8.1//NONSGML v1.0//EN
CALSCALE:GREGORIAN
METHOD:PUBLISH
X-WR-CALNAME:Earthie Yoga and Meditation
X-ORIGINAL-URL:http://earthie.com.au
X-WR-CALDESC:Events for Earthie Yoga and Meditation
BEGIN:VEVENT
DTSTART;TZID=UTC+0:20200124T193000
DTEND;TZID=UTC+0:20200124T210000
DTSTAMP:20200222T135813
CREATED:20200113T015601Z
LAST-MODIFIED:20200113T015601Z
UID:728-1579894200-1579899600@earthie.com.au
SUMMARY:Lounge Sessions: Fundraiser for WIRES
DESCRIPTION:It has been a difficult start to summer with smoke filled skies\, air that is thick and hard to breathe\, the knowledge of all that has been lost\, all our wonderful green expanses of bush rich with wildlife that is unique to our land. It is a deep and sorrowful loss\, for which we feel the weight of responsibility. \nWe must move forward with hope\, we must do what we can to see our wildlife preserved and their habitats renewed. Sometimes we feel small in the face of catastrophes that are so immense\, but together we can rebuild. \nThis Lounge Sessions\, we will come together to share music\, the great healer of our hearts. To raise funds for WIRES who have been helping to save our wildlife\, and to build community. \nProgram \nFire – a composition by Sarah Monk for Flute\, Cello and Recorded Sound. \nAssorted cello duets – performed by Anne Berry and Naomi Dart \nFlying High Trio – Sheriden Nelson on vocals\, Anne Dawson on piano and Chris Dawson on bass. \nThrenody by Peter Sculthorpe – a lament for the earth performed by Naomi Dart \nCost $15 cash or card on the door\, $5 for children under 12. \nThere will be free tea and coffee and cake as usual\, and a donation box for those capable and willing to give more. \n
URL:http://earthie.com.au/event/lounge-sessions-fundraiser-for-wires/
LOCATION:Earthie Yoga and Meditation\, 1/5 Maitland Rd\, Mayfield\, Newcastle\, NSW\, 2304\, Australia
ATTACH;FMTTYPE=image/png:http://earthie.com.au/wp-content/uploads/2020/01/Fundraiser-For-WIRES-At-Lounge-Sessions.png
END:VEVENT
END:VCALENDAR