BEGIN:VCALENDAR
VERSION:2.0
PRODID:-//Earthie Yoga and Meditation - ECPv4.8.1//NONSGML v1.0//EN
CALSCALE:GREGORIAN
METHOD:PUBLISH
X-WR-CALNAME:Earthie Yoga and Meditation
X-ORIGINAL-URL:http://earthie.com.au
X-WR-CALDESC:Events for Earthie Yoga and Meditation
BEGIN:VEVENT
DTSTART;TZID=UTC+0:20190725T180000
DTEND;TZID=UTC+0:20190822T193000
DTSTAMP:20200229T000758
CREATED:20190714T232244Z
LAST-MODIFIED:20190714T232418Z
UID:570-1564077600-1566502200@earthie.com.au
SUMMARY:Power to Potential - Kundalini Course
DESCRIPTION:Are you ready to discover your life’s purpose and activate your fullest potential? Kundalini Yoga is an ancient practice that helps you channel powerful energy and transform your life.\nA powerful and dynamic Kundalini 5 Week workshop series designed to awaken the fire deeply within. Through stimulation & activation of the Root\, Sacral & Navel power centers we’ll tap into the true raw power aspect of you. The solar plexus/naval is noted for the place holding our personal power and will. This is the center of the spiritual warrior because this is the chakra/energy centre that gifts us with the ability to initiate one’s mission and complete it. This chakra is about action\, being in integrity\, and taking risks. Focus and the ability to use our feelings to fuel action come from this chakra.The naval area relates to digestion\, the stomach\, colon\, lower back\, self esteem\, health\, judgment\, anger\, obstacles and procrastination.Help to free the will and power of your spiritual warrior to act and follow through on your commitment.What to expect in this 5 week series: * Dynamic Transformative Kundalini Yoga\, breath work and meditations. * Clearing\, Unblocking and Balancing the Naval Point* Anchoring & Grounding* Activate Your InnerPurpose* Focus and the ability to use our feelings to fuel action* Increased Energy\, Confidence & Physical Strength* Invoking Joy\, Peace and a sense of well-being. “In life the third chakra is yes and no. High and low is balanced at the third chakra. It is a point of pure energy. If you do not know to balance the third chakra\, you may have all the degrees\, all the knowledge\, all the money\, all the beauty\, but you shall be unhappy. Because it is not what you feel\, it is not what you know\, it is not what you can do–it is how you can balance it. When you cannot balance\, you cannot live.” – Yogi BhajanPlease don’t hesitate to get in touch with Lucinda at 0414 309 467 if you have any questions. \nThursday’s 25 JULY – 22 AUGUST\, 2019Earthie Yoga Studio\, 1/5 Maitland Road\, MAYFIELDInvestment: $80 – Please book in via the booking linkOpen to all levels of experience and fitness.  \n
URL:http://earthie.com.au/event/power-to-potential-kundalini-course/
LOCATION:Earthie Yoga and Meditation\, 1/5 Maitland Rd\, Mayfield\, Newcastle\, NSW\, 2304\, Australia
END:VEVENT
END:VCALENDAR