BEGIN:VCALENDAR
VERSION:2.0
PRODID:-//Earthie Yoga and Meditation - ECPv4.8.1//NONSGML v1.0//EN
CALSCALE:GREGORIAN
METHOD:PUBLISH
X-WR-CALNAME:Earthie Yoga and Meditation
X-ORIGINAL-URL:http://earthie.com.au
X-WR-CALDESC:Events for Earthie Yoga and Meditation
BEGIN:VEVENT
DTSTART;TZID=UTC+0:20200301T180000
DTEND;TZID=UTC+0:20200405T193000
DTSTAMP:20200224T034843
CREATED:20200210T092028Z
LAST-MODIFIED:20200210T092208Z
UID:783-1583085600-1586115000@earthie.com.au
SUMMARY:Psychic Development Newcastle
DESCRIPTION:This psychic development class will teach you how to meditate\, communicate with your guides\, work with energy\, connect psychically and more.\n\n\nHave you been wanting to connect to your higher self or meet your spirit guides? Do you want to feel connected to your energy or those around you? Do you feel like you are already connected to the world of spirit and want to learn how to use these gift? \nThis course caters to beginners it teaches you how to tap into your psychic abilities. This six-week course is a step by step guide of how to unlock your inner wisdom. \nThis course will teach you how to:\n–  Meditate\n–  Unlock your inner energy and wisdom\n–  How to read empathically and protect yourself.\n– The chakra system\n– Automatic writing\n– psychometry\n– psychic awareness \nGab can’t wait to have you join her on this journey? Students will receive a workbook and meditation tracks to help deepen your practice. \n\nCourse dates:\nA 6 week course (Sundays) starting March 1st\, 6-7.30pm. \nCost: \n$100 for 6 sessions. \nEventbrite:\nhttps://www.eventbrite.com.au/e/psychic-development-newcastle-tickets-93242447671  \n
URL:http://earthie.com.au/event/psychic-development-newcastle/
LOCATION:Earthie Yoga and Meditation\, 1/5 Maitland Rd\, Mayfield\, Newcastle\, NSW\, 2304\, Australia
ATTACH;FMTTYPE=image/jpeg:http://earthie.com.au/wp-content/uploads/2020/02/1.jpg
END:VEVENT
END:VCALENDAR