BEGIN:VCALENDAR
VERSION:2.0
PRODID:-//Earthie Yoga and Meditation - ECPv4.8.1//NONSGML v1.0//EN
CALSCALE:GREGORIAN
METHOD:PUBLISH
X-WR-CALNAME:Earthie Yoga and Meditation
X-ORIGINAL-URL:http://earthie.com.au
X-WR-CALDESC:Events for Earthie Yoga and Meditation
BEGIN:VEVENT
DTSTART;TZID=UTC+0:20191220T190000
DTEND;TZID=UTC+0:20191220T210000
DTSTAMP:20200228T230410
CREATED:20191219T074825Z
LAST-MODIFIED:20191219T074825Z
UID:704-1576868400-1576875600@earthie.com.au
SUMMARY:Reflections\, Introspections and Ridicule
DESCRIPTION:A local poet and Cornish pirate kick off their Living Room Tour with a night of ‘Reflections\, Introspections and Ridicule’ on the world up to 2020. A community based evening of music and poetry!\n🌟\nWe invite wordsmiths\, musicians and story-tellers to share the stage as we mark the passing of another year. \n🌟\nLaura @theyoniverses serves her coffee with a side of deep introspection. An artist of the journey\, she travels from the darkness of existentential despair to the heights of otherworldly optimism. On her wanderings she met…\n🌟\nEddie Kennard\, defying all definition. Some have called him not-normal\, others “brilliant!” He may be Cornwall’s very own Howard Marks.\n🌟\nBasically\, we just want to hang out with you at Christmas.\n🌟\nSpecial guests to be announced. There will be refreshments\, merriment and plenty of space for sharing. Donations only. Disorderly audience encouraged. \n
URL:http://earthie.com.au/event/reflections-introspections-and-ridicule/
LOCATION:Earthie Yoga and Meditation\, 1/5 Maitland Rd\, Mayfield\, Newcastle\, NSW\, 2304\, Australia
ATTACH;FMTTYPE=image/jpeg:http://earthie.com.au/wp-content/uploads/2019/12/Laura.jpg
END:VEVENT
END:VCALENDAR