BEGIN:VCALENDAR
VERSION:2.0
PRODID:-//Earthie Yoga and Meditation - ECPv4.8.1//NONSGML v1.0//EN
CALSCALE:GREGORIAN
METHOD:PUBLISH
X-WR-CALNAME:Earthie Yoga and Meditation
X-ORIGINAL-URL:http://earthie.com.au
X-WR-CALDESC:Events for Earthie Yoga and Meditation
BEGIN:VEVENT
DTSTART;TZID=UTC+0:20190330T113000
DTEND;TZID=UTC+0:20190330T123000
DTSTAMP:20200229T001244
CREATED:20190221T042020Z
LAST-MODIFIED:20190221T213359Z
UID:410-1553945400-1553949000@earthie.com.au
SUMMARY:Santosha - The Yamas & Niyamas 
DESCRIPTION:\n\nNothing we do is without consequence.\nEach of our thoughts\, actions and reactions create a ripple effect into the world.\nWe influence our loved ones\, our co-workers\, children and even strangers.\n\nOur attitude and behaviours about the world and its people is our Yamas\, and the relationship we have with the ourself is the Niyamas.\nTogether they offer us help so we have less suffering and create a greater sense of joy in the world.\nThe Yamas & Niyamas are vital for developing an ethical lifestyle according to yoga philosophy\, so come along and learn a little more about them!\n\nCome join Brooke Donlan in a discussion on how we weave these practices into our life.\n\n
URL:http://earthie.com.au/event/santosha-the-yamas-niyamas-talk/
LOCATION:Earthie Yoga and Meditation\, 1/5 Maitland Rd\, Mayfield\, Newcastle\, NSW\, 2304\, Australia
ATTACH;FMTTYPE=image/jpeg:http://earthie.com.au/wp-content/uploads/2019/02/ayn-yama-niyama-e1551759522302.jpg
END:VEVENT
END:VCALENDAR