BEGIN:VCALENDAR
VERSION:2.0
PRODID:-//Earthie Yoga and Meditation - ECPv4.8.1//NONSGML v1.0//EN
CALSCALE:GREGORIAN
METHOD:PUBLISH
X-WR-CALNAME:Earthie Yoga and Meditation
X-ORIGINAL-URL:http://earthie.com.au
X-WR-CALDESC:Events for Earthie Yoga and Meditation
BEGIN:VEVENT
DTSTART;TZID=UTC+0:20190908T120000
DTEND;TZID=UTC+0:20190908T150000
DTSTAMP:20200228T235830
CREATED:20190819T011313Z
LAST-MODIFIED:20190820T060114Z
UID:605-1567944000-1567954800@earthie.com.au
SUMMARY:Spring Yin Immersion with Kate
DESCRIPTION:\nJoin Kate for an uniquely curated Spring 3hr Yin Immersion for renewal\, expansion & growth.\nSpring celebrates the Wood element\, a season which bursts forward with optimism offering change after the still Winter; a time for new beginnings & re-birth.\nFocusing on Liver & Gall Bladder channels the immersion will promote expansion\, detoxification\, nourishment & will be a wonderful preparation to flourish forward into the coming season.\n\nKate is a passionate & nurturing Yin yoga specialised teacher dedicated to the subtle potency  & accessibility of the practice. She is inspired by the process of observation & the idea of becoming the witness to the experience whatever arises. She invites students to surrender into their own shapes in her classes & believes strongly in the healing potential of time\, breathe & gravity.\n\n\n
URL:http://earthie.com.au/event/spring-yin-immersion-with-kate/
LOCATION:Earthie Yoga and Meditation\, 1/5 Maitland Rd\, Mayfield\, Newcastle\, NSW\, 2304\, Australia
ATTACH;FMTTYPE=image/png:http://earthie.com.au/wp-content/uploads/2019/08/image1-1.png
END:VEVENT
END:VCALENDAR