BEGIN:VCALENDAR
VERSION:2.0
PRODID:-//Earthie Yoga and Meditation - ECPv4.8.1//NONSGML v1.0//EN
CALSCALE:GREGORIAN
METHOD:PUBLISH
X-WR-CALNAME:Earthie Yoga and Meditation
X-ORIGINAL-URL:http://earthie.com.au
X-WR-CALDESC:Events for Earthie Yoga and Meditation
BEGIN:VEVENT
DTSTART;TZID=UTC+0:20191115T190000
DTEND;TZID=UTC+0:20191115T210000
DTSTAMP:20200224T023157
CREATED:20191031T231144Z
LAST-MODIFIED:20191031T231144Z
UID:671-1573844400-1573851600@earthie.com.au
SUMMARY:The Human Circle
DESCRIPTION:Gather with other humans\, let the illusion of separateness dissolve as we open the dialogue between men and women. \nIf we are to grow together\, we must gather together\, in a safe space to explore matters of the heart. Your facilitators will guide the conversation respectfully and compassionately\, as we learn from each other how to expand as a collective. Bring your curiosity. \nCost: Pay what you can between $10-$20\, no booking required. \nFor more information: Contact Laura 0432 808 525 or Michael 0402 604 567. \n
URL:http://earthie.com.au/event/the-human-circle/
LOCATION:Earthie Yoga and Meditation\, 1/5 Maitland Rd\, Mayfield\, Newcastle\, NSW\, 2304\, Australia
ATTACH;FMTTYPE=image/jpeg:http://earthie.com.au/wp-content/uploads/2019/10/72925417_924994614537682_4064144225820737536_n.jpg
END:VEVENT
END:VCALENDAR