BEGIN:VCALENDAR
VERSION:2.0
PRODID:-//Earthie Yoga and Meditation - ECPv4.8.1//NONSGML v1.0//EN
CALSCALE:GREGORIAN
METHOD:PUBLISH
X-WR-CALNAME:Earthie Yoga and Meditation
X-ORIGINAL-URL:http://earthie.com.au
X-WR-CALDESC:Events for Earthie Yoga and Meditation
BEGIN:VEVENT
DTSTART;TZID=UTC+0:20191130T140000
DTEND;TZID=UTC+0:20191130T170000
DTSTAMP:20200228T230346
CREATED:20191031T232117Z
LAST-MODIFIED:20191031T234158Z
UID:674-1575122400-1575133200@earthie.com.au
SUMMARY:The Making Circle
DESCRIPTION:\n\n\n\nLet’s get crafty together and make some beautiful handmade gifts to give away this christmas.\n\n\n\n\n\n\n\n\nIn this workshop you will have the opportunity to learn how to make woven brooches\, macramé key rings or plant hangers\, recycled earrings and woven mats out of t-shirt yarn. We will provide various craft stations for you to explore and experiment with different mediums. You will leave with different handmade pieces for you to give away this christmas and a range of new skills. \n\n\n\n\nCost: $40 for a family of 4 or $20 pp inc BF \nBookings required. \n  \n  \n
URL:http://earthie.com.au/event/the-making-circle/
LOCATION:Earthie Yoga and Meditation\, 1/5 Maitland Rd\, Mayfield\, Newcastle\, NSW\, 2304\, Australia
ATTACH;FMTTYPE=image/jpeg:http://earthie.com.au/wp-content/uploads/2019/10/IMG-20191016-WA0005.jpg
END:VEVENT
END:VCALENDAR