BEGIN:VCALENDAR
VERSION:2.0
PRODID:-//Earthie Yoga and Meditation - ECPv4.8.1//NONSGML v1.0//EN
CALSCALE:GREGORIAN
METHOD:PUBLISH
X-WR-CALNAME:Earthie Yoga and Meditation
X-ORIGINAL-URL:http://earthie.com.au
X-WR-CALDESC:Events for Earthie Yoga and Meditation
BEGIN:VEVENT
DTSTART;TZID=UTC+0:20191017T180000
DTEND;TZID=UTC+0:20191107T193000
DTSTAMP:20200224T185459
CREATED:20190925T045140Z
LAST-MODIFIED:20190925T045140Z
UID:632-1571335200-1573155000@earthie.com.au
SUMMARY:The Power of Spring Transformation - 4 Week Kundalini Yoga and Meditation Course
DESCRIPTION:\n\n\n\n\nBy using the powerful technology of Kundalini Yoga\, we will cleanse our bodies and our consciousness\, shedding the layer of who we are not so that we may come back to who we truly are. \nThis 4 week series we will learn detoxing yoga postures and breathing exercises that stimulate digestive\, lymphatic and circulatory systems as well as learn how to integrate healthy tools into daily life and practice. Plan to release toxins and restore the body back to equilibrium. \nWe will work on mental toxins through the practice of meditation and the use of mantra\, giving us the opportunity to explore the connections between emotional and physical symptoms.. \nJoin Lucinda\, for a special and engaging four week series of Kundalini Yoga and meditation classes especially designed to cleanse\, purify and invigorate your energy. \n4 Weeks\, Thursday’s 17 October – 7 November\, 2019 \nOpen to all levels of experience and fitness. \n\nBooking link below.\n\n\n\n\n\n\n
URL:http://earthie.com.au/event/the-power-of-spring-transformation-4-week-kundalini-yoga-and-meditation-course/
LOCATION:Earthie Yoga and Meditation\, 1/5 Maitland Rd\, Mayfield\, Newcastle\, NSW\, 2304\, Australia
END:VEVENT
END:VCALENDAR