BEGIN:VCALENDAR
VERSION:2.0
PRODID:-//Earthie Yoga and Meditation - ECPv4.8.1//NONSGML v1.0//EN
CALSCALE:GREGORIAN
METHOD:PUBLISH
X-WR-CALNAME:Earthie Yoga and Meditation
X-ORIGINAL-URL:http://earthie.com.au
X-WR-CALDESC:Events for Earthie Yoga and Meditation
BEGIN:VEVENT
DTSTART;TZID=UTC+0:20200130T180000
DTEND;TZID=UTC+0:20200227T193000
DTSTAMP:20200228T225257
CREATED:20200115T104318Z
LAST-MODIFIED:20200121T102131Z
UID:737-1580407200-1582831800@earthie.com.au
SUMMARY:Kundalini Yoga 5 week course: Warrior Saint/Radiant Body
DESCRIPTION:Learn key ways to enhance and deepen your yoga practice using ancient kiryas and meditations. Discover why the Warrior Saint is such an important archetype at this time. \nThis 5 Week workshop series will provide the keys to conquering fear\, overcoming whatever obstacle in life one is facing\, and attaining whatever we put our mind to. We’ll explore the theme of living one’s life as a Warrior Saint\, with a Warriors Heart and a Radiant Body. a life guided by passion\, nobility and limitless courage. These qualities enable us to conquer our inner doubts and insecurities with steady determination and grace. \nKundalini Yoga is a very potent and effective system of self-transformation and personal development that uses and combines the following techniques: \n> pranayam (breathing techniques)\n> kriyas (body postures / movements)\n> mudras (hand-postures)\n> mantras (sound currents or mentally produced sounds)\n> bandhas (body locks / muscle contractions)\n> meditation \nThese times are demanding that we live as Spiritual Warriors—fearless\, standing for truth\, and lit from within by the radiance of the soul. The life of a spiritual warrior is a life of courage\, compassion\, strength and discipline. These qualities enable us to conquer our inner doubts and insecurities with steady determination and grace. \nTo embody these qualities we must have strong armor in place -and that armor is a strong nervous system with the capacity to handle immense loads of stress and still maintain balance. \nMeditation and a yogic lifestyle can help you build a strong nervous system. When thoughts and sensations are filtered through a steady contemplative practice your capacity to handle what comes your way improves. Meditation is a little like taking out the garbage. When practiced regularly\, you have the space and capacity to take in and let go of whatever comes your way. \nWe’ll be working with some invigorating and purifying Kundalini Yoga yoga and meditations for courage\, fearlessness\, and a strong aura and radiant body. This will be a powerful 5 Week series designed for the enthusiastic beginner and for those with any previous yoga experience. \nAll welcome. \nTime: 6pm – 7.30pm\,\nThursday’s\, 30 Jan – 27 Feb\, 2020\nInvestment: $80 https://www.trybooking.com/BHQWL \n  \n
URL:http://earthie.com.au/event/warrior-saint-radiant-body/
LOCATION:Earthie Yoga and Meditation\, 1/5 Maitland Rd\, Mayfield\, Newcastle\, NSW\, 2304\, Australia
ATTACH;FMTTYPE=image/jpeg:http://earthie.com.au/wp-content/uploads/2020/01/82463050_2484087995051511_6269416925076389888_n.jpg
END:VEVENT
END:VCALENDAR