BEGIN:VCALENDAR
VERSION:2.0
PRODID:-//Earthie Yoga and Meditation - ECPv4.8.1//NONSGML v1.0//EN
CALSCALE:GREGORIAN
METHOD:PUBLISH
X-WR-CALNAME:Earthie Yoga and Meditation
X-ORIGINAL-URL:http://earthie.com.au
X-WR-CALDESC:Events for Earthie Yoga and Meditation
BEGIN:VEVENT
DTSTART;TZID=UTC+0:20190622T190000
DTEND;TZID=UTC+0:20190622T210000
DTSTAMP:20200226T103747
CREATED:20190526T235158Z
LAST-MODIFIED:20190526T235158Z
UID:542-1561230000-1561237200@earthie.com.au
SUMMARY:Winter Solstice - A Shamanic Celebration
DESCRIPTION:On this longest of the dark nights join us as we celebrate the birth of the new solar year. Hot drinks and warm friends will be your companion as you embark on this Ceremonial Journey. \nHow we start a cycle sets the energy for whats to come. \nHow will you create your future self? \nOn this powerful eve we shall use ceremony\, ritual and journeying to craft the next chapter we are stepping in to. \nTIME: 7-9pm (please arrive no later than 6:45pm to be welcomed\, smudged\, grab a cuppa and find your spot.\nCOST: $35 pp All welcome (kids who can sit in circle and participate are welcome). \nLimited space available so please ensure you book your ticket before arrival \n
URL:http://earthie.com.au/event/winter-solstice-a-shamanic-celebration/
LOCATION:Earthie Yoga and Meditation\, 1/5 Maitland Rd\, Mayfield\, Newcastle\, NSW\, 2304\, Australia
ATTACH;FMTTYPE=image/png:http://earthie.com.au/wp-content/uploads/2019/05/SM_title.png
END:VEVENT
END:VCALENDAR